Workbook

Sheet SUMMERING
A1: Värdering sponsorerbjudande
A3: MARKNADSINVESTERING | C3: Värde SEK
A4: Exponering | B4: A S S O C I A T I O N | C4: =(Exponering!G6+Exponering!G8+Exponering!G10) -> 180000
A5: Hållbarhet/Samhällsengagemang | C5: =('Hållbarhet-Samhällsengagemang'!E6) -> 84000
A6: Nätverksträffar | C6: =(Nätverksträffar!A6) -> 30000
A7: Hospitality | C7: =(Hospitality!B6+Hospitality!C6+Hospitality!D6+Hospitality!E6) -> 32000
A8: Spelare | C8: =(Spelare!A6) -> 25000
A9: Digital marknadsföring | C9: =('Digital marknadsföring'!A6) -> 25000
A10: Events | C10: =(Events!A6) -> 35000
A11: Association | B11: =(Association!A6) -> 50000
A12: SUMMA | C12: =SUM(C4:C11) -> 411000
A13: SPORTSLIG INVESTERING | C13: 100000
A14: SAMHÄLLSINVESTERING | C14: 150000
A15: TOTAL INVESTERING | C15: =(C12+C13+C14) -> 661000

Sheet Exponering
A1: Exponering
B4: MEDIA | D4: PUBLIK
B5: Medievärde SEK | D5: Räckvidd | E5: Värde per kontakt | F5: Publikvärde SEK | G5: TOTALVÄRDE SEK
A6: Dräkt | B6: 100000 | C6: + | D6: 20000 | E6: 1 | F6: =(D6*E6) -> 20000 | G6: =(B6+F6) -> 120000
A8: Skylt | B8: 20000 | C8: + | D8: 30000 | E8: 0.5 | F8: =(D8*E8) -> 15000 | G8: =(B8+F8) -> 35000
A10: LED | B10: 20000 | C10: + | D10: 10000 | E10: 0.5 | F10: =(D10*E10) -> 5000 | G10: =(B10+F10) -> 25000

Sheet Hållbarhet-Samhällsengagemang
A1: Hållbarhet / Samhällsengagemang
B5: Association | C5: Aktivering* | D5: Synlighet | E5: Totalvärde
A6: Värde SEK | B6: 50000 | C6: 10000 | D6: =(D8*D9*D10) -> 24000 | E6: =(B6+C6+D6) -> 84000
D8: 10000 | E8: Räckvidd; alla följare i sociala medier + nyhetsbrev + hemsida
D9: 0.8 | E9: Värde per kontakt
D10: 3 | E10: Frekvens; x gånger per år
C12: *Exempelvis event med företagets medarbetare

Sheet Nätverksträffar
A1: Nätverksträffar
A5: Värde SEK
A6: =(A8*A9) -> 30000
A8: 3000 | B8: Värde per träff för 2 deltagare från sponsorföretaget
A9: 10 | B9: Träffar under ett år

Sheet Hospitality
A1: Hospitality
B5: Biljetter | C5: Klubbstolar | D5: Loge | E5: Mat & dryck
A6: Värde SEK | B6: =(B8*B9) -> 20000 | C6: =(C8*C9) -> 6000 | D6: =(D8*D9) -> 0 | E6: =(E8*E9) -> 6000
A8: Antal | B8: 100 | C8: 2 | D8: 0 | E8: 20
A9: Värde per enhet | B9: 200 | C9: 3000 | D9: 0 | E9: 300

Sheet Spelare
A1: Spelare
A5: Värde SEK
A6: =(A8+A9) -> 25000
A8: 10000 | B8: Nyttja spelare i aktivitet hos sponsorn
A9: 15000 | B9: Spela in film med spelaren

Sheet Digital marknadsföring
A1: Digital marknadsföring
A5: Värde SEK
A6: =(A8*A9*A10) -> 25000
A8: 10000 | B8: Antal digitala följare i era kanaler (sociala medier, hemsida, nyhetsbrev etc.)
A9: 5 | B9: Antal tillfällen per år
A10: 0.5 | B10: Värde per kontakt

Sheet Events
A1: Events
A5: Värde SEK
A6: =(A8+A9) -> 35000
A8: 20000 | B8: Matchvärdskap med publikaktivering och 10 biljetter med mat
A9: 15000 | B9: Föreläsning från klubbens tränare ute hos partnerföretaget

Sheet Association
A1: Association
A3: 50-80 procent ökat gillande kan era partners uppnå om de "gnuggar sig" mot ert klubbvarumärke!
A5: Värde SEK
A6: 50000
